BEGIN:VCALENDAR
VERSION:2.0
PRODID:-//Himali Boarding School Select - ECPv6.15.20//NONSGML v1.0//EN
CALSCALE:GREGORIAN
METHOD:PUBLISH
X-WR-CALNAME:Himali Boarding School Select
X-ORIGINAL-URL:https://www.himaliselect.com
X-WR-CALDESC:Events for Himali Boarding School Select
REFRESH-INTERVAL;VALUE=DURATION:PT1H
X-Robots-Tag:noindex
X-PUBLISHED-TTL:PT1H
BEGIN:VTIMEZONE
TZID:UTC
BEGIN:STANDARD
TZOFFSETFROM:+0000
TZOFFSETTO:+0000
TZNAME:UTC
DTSTART:20240101T000000
END:STANDARD
END:VTIMEZONE
BEGIN:VEVENT
DTSTART;VALUE=DATE:20250401
DTEND;VALUE=DATE:20250402
DTSTAMP:20260422T090926
CREATED:20250319T134224Z
LAST-MODIFIED:20250319T134224Z
UID:5906-1743465600-1743551999@www.himaliselect.com
SUMMARY:New Session Commences
DESCRIPTION:New Session Commences
URL:https://www.himaliselect.com/event/new-session-commences-3/
CATEGORIES:School Reopens
END:VEVENT
BEGIN:VEVENT
DTSTART;VALUE=DATE:20250402
DTEND;VALUE=DATE:20250403
DTSTAMP:20260422T090926
CREATED:20250319T134251Z
LAST-MODIFIED:20250319T134251Z
UID:5908-1743552000-1743638399@www.himaliselect.com
SUMMARY:Orientation for Students
DESCRIPTION:Orientation for Students
URL:https://www.himaliselect.com/event/orientation-for-students-2/
CATEGORIES:school Activites
END:VEVENT
BEGIN:VEVENT
DTSTART;TZID=UTC:20250403T083000
DTEND;TZID=UTC:20250404T223000
DTSTAMP:20260422T090926
CREATED:20250319T134416Z
LAST-MODIFIED:20250319T134416Z
UID:5910-1743669000-1743805800@www.himaliselect.com
SUMMARY:Half Day School
DESCRIPTION:Timing : P.G\, Nursery & K.G : 8:30am – 9:30am Cl I & Above : 8:30am – 11:30am
URL:https://www.himaliselect.com/event/half-day-school/
CATEGORIES:Holidays
END:VEVENT
BEGIN:VEVENT
DTSTART;TZID=UTC:20250407T080000
DTEND;TZID=UTC:20250412T170000
DTSTAMP:20260422T090926
CREATED:20250319T134540Z
LAST-MODIFIED:20250319T134540Z
UID:5912-1744012800-1744477200@www.himaliselect.com
SUMMARY:Full Day Classes
DESCRIPTION:Full Day Classes
URL:https://www.himaliselect.com/event/full-day-classes/
CATEGORIES:Classes resume
END:VEVENT
BEGIN:VEVENT
DTSTART;VALUE=DATE:20250410
DTEND;VALUE=DATE:20250411
DTSTAMP:20260422T090926
CREATED:20250319T134959Z
LAST-MODIFIED:20250319T134959Z
UID:5916-1744243200-1744329599@www.himaliselect.com
SUMMARY:Mahavir Jayanti
DESCRIPTION:Mahavir Jayanti
URL:https://www.himaliselect.com/event/mahavir-jayanti-2/
CATEGORIES:Holidays
END:VEVENT
BEGIN:VEVENT
DTSTART;VALUE=DATE:20250414
DTEND;VALUE=DATE:20250415
DTSTAMP:20260422T090926
CREATED:20250319T135032Z
LAST-MODIFIED:20250319T135032Z
UID:5918-1744588800-1744675199@www.himaliselect.com
SUMMARY:Dr. Ambedkar Jayanti
DESCRIPTION:Dr. Ambedkar Jayanti
URL:https://www.himaliselect.com/event/dr-ambedkar-jayanti-2/
CATEGORIES:Holidays
END:VEVENT
BEGIN:VEVENT
DTSTART;VALUE=DATE:20250415
DTEND;VALUE=DATE:20250416
DTSTAMP:20260422T090926
CREATED:20250319T135124Z
LAST-MODIFIED:20250319T135124Z
UID:5920-1744675200-1744761599@www.himaliselect.com
SUMMARY:Bengali New Year
DESCRIPTION:Bengali New Year
URL:https://www.himaliselect.com/event/bengali-new-year/
CATEGORIES:Holidays
END:VEVENT
BEGIN:VEVENT
DTSTART;VALUE=DATE:20250416
DTEND;VALUE=DATE:20250417
DTSTAMP:20260422T090926
CREATED:20250319T135243Z
LAST-MODIFIED:20250319T135243Z
UID:5922-1744761600-1744847999@www.himaliselect.com
SUMMARY:Change in Timing for Classes K.G and Above
DESCRIPTION:Change in Timing for Classes K.G and Above Day scholars : 8:30am – 2:00 pm Day boarders: 8:30am- 4:45 pm
URL:https://www.himaliselect.com/event/change-in-timing-for-classes-k-g-and-above-2/
CATEGORIES:school Activites
END:VEVENT
BEGIN:VEVENT
DTSTART;TZID=UTC:20250418T080000
DTEND;TZID=UTC:20250419T170000
DTSTAMP:20260422T090926
CREATED:20250319T135327Z
LAST-MODIFIED:20250319T135327Z
UID:5924-1744963200-1745082000@www.himaliselect.com
SUMMARY:Good Friday
DESCRIPTION:Good Friday
URL:https://www.himaliselect.com/event/good-friday/
CATEGORIES:Holidays
END:VEVENT
BEGIN:VEVENT
DTSTART;VALUE=DATE:20250422
DTEND;VALUE=DATE:20250423
DTSTAMP:20260422T090926
CREATED:20250319T135419Z
LAST-MODIFIED:20250319T135419Z
UID:5926-1745280000-1745366399@www.himaliselect.com
SUMMARY:Earth Day Celebration
DESCRIPTION:Earth Day Celebration
URL:https://www.himaliselect.com/event/earth-day-celebration-2/
CATEGORIES:school Activites
END:VEVENT
BEGIN:VEVENT
DTSTART;VALUE=DATE:20250426
DTEND;VALUE=DATE:20250427
DTSTAMP:20260422T090926
CREATED:20250319T135450Z
LAST-MODIFIED:20250319T135450Z
UID:5928-1745625600-1745711999@www.himaliselect.com
SUMMARY:Volley Ball (Boys) Inter House
DESCRIPTION:Volley Ball (Boys) Inter House
URL:https://www.himaliselect.com/event/volley-ball-boys-inter-house-2/
CATEGORIES:Games
END:VEVENT
END:VCALENDAR