BEGIN:VCALENDAR
VERSION:2.0
PRODID:-//Himali Boarding School Select - ECPv6.15.20//NONSGML v1.0//EN
CALSCALE:GREGORIAN
METHOD:PUBLISH
X-WR-CALNAME:Himali Boarding School Select
X-ORIGINAL-URL:https://www.himaliselect.com
X-WR-CALDESC:Events for Himali Boarding School Select
REFRESH-INTERVAL;VALUE=DURATION:PT1H
X-Robots-Tag:noindex
X-PUBLISHED-TTL:PT1H
BEGIN:VTIMEZONE
TZID:UTC
BEGIN:STANDARD
TZOFFSETFROM:+0000
TZOFFSETTO:+0000
TZNAME:UTC
DTSTART:20240101T000000
END:STANDARD
END:VTIMEZONE
BEGIN:VEVENT
DTSTART;TZID=UTC:20250303T090000
DTEND;TZID=UTC:20250311T160000
DTSTAMP:20260422T104609
CREATED:20240325T095137Z
LAST-MODIFIED:20250304T080203Z
UID:5284-1740992400-1741708800@www.himaliselect.com
SUMMARY:PROMOTION EXAM FOR CLASSES NURSERY TO IX BEGINS
DESCRIPTION:PROMOTION EXAM FOR CLASSES NURSERY TO IX BEGINS
URL:https://www.himaliselect.com/event/promotion-exam-for-classes-nursery-to-ix-begins/
CATEGORIES:Examinations
END:VEVENT
BEGIN:VEVENT
DTSTART;VALUE=DATE:20250312
DTEND;VALUE=DATE:20250313
DTSTAMP:20260422T104609
CREATED:20240325T095241Z
LAST-MODIFIED:20250304T081409Z
UID:5286-1741737600-1741823999@www.himaliselect.com
SUMMARY:SESSION BREAK AFTER 11:30AM
DESCRIPTION:SESSION BREAK AFTER 11:30AM
URL:https://www.himaliselect.com/event/session-break-after-1130am/
CATEGORIES:Holidays
END:VEVENT
BEGIN:VEVENT
DTSTART;VALUE=DATE:20250314
DTEND;VALUE=DATE:20250315
DTSTAMP:20260422T104609
CREATED:20250304T081550Z
LAST-MODIFIED:20250304T081550Z
UID:5898-1741910400-1741996799@www.himaliselect.com
SUMMARY:Holi
DESCRIPTION:Holi – School Holiday
URL:https://www.himaliselect.com/event/holi/
CATEGORIES:Holidays
END:VEVENT
BEGIN:VEVENT
DTSTART;VALUE=DATE:20250316
DTEND;VALUE=DATE:20250317
DTSTAMP:20260422T104609
CREATED:20240325T095350Z
LAST-MODIFIED:20250304T080302Z
UID:5288-1742083200-1742169599@www.himaliselect.com
SUMMARY:FINAL TERM RESULTS
DESCRIPTION:FINAL TERM RESULTS
URL:https://www.himaliselect.com/event/final-term-results/
CATEGORIES:Exam Results
END:VEVENT
BEGIN:VEVENT
DTSTART;TZID=UTC:20250319T080000
DTEND;TZID=UTC:20250319T170000
DTSTAMP:20260422T104609
CREATED:20250319T145053Z
LAST-MODIFIED:20250319T145053Z
UID:6036-1742371200-1742403600@www.himaliselect.com
SUMMARY:Junior Sit and Draw Competition
DESCRIPTION:Junior Sit and Draw Competition
URL:https://www.himaliselect.com/event/junior-sit-and-draw-competition/
CATEGORIES:school Activites
END:VEVENT
BEGIN:VEVENT
DTSTART;VALUE=DATE:20250323
DTEND;VALUE=DATE:20250324
DTSTAMP:20260422T104609
CREATED:20250319T151442Z
LAST-MODIFIED:20250319T151442Z
UID:6098-1742688000-1742774399@www.himaliselect.com
SUMMARY:FINAL TERM RESULTS
DESCRIPTION:FINAL TERM RESULTS
URL:https://www.himaliselect.com/event/final-term-results-2/
CATEGORIES:Exam Results
END:VEVENT
BEGIN:VEVENT
DTSTART;VALUE=DATE:20250331
DTEND;VALUE=DATE:20250401
DTSTAMP:20260422T104609
CREATED:20240325T095439Z
LAST-MODIFIED:20250319T134127Z
UID:5290-1743379200-1743465599@www.himaliselect.com
SUMMARY:NEW SESSION COMMENCES
DESCRIPTION:Boarders to report back to school by 4:00 pm
URL:https://www.himaliselect.com/event/new-session-commences-2/
CATEGORIES:School Reopens
END:VEVENT
END:VCALENDAR