BEGIN:VCALENDAR
VERSION:2.0
PRODID:-//Himali Boarding School Select - ECPv6.15.20//NONSGML v1.0//EN
CALSCALE:GREGORIAN
METHOD:PUBLISH
X-ORIGINAL-URL:https://www.himaliselect.com
X-WR-CALDESC:Events for Himali Boarding School Select
REFRESH-INTERVAL;VALUE=DURATION:PT1H
X-Robots-Tag:noindex
X-PUBLISHED-TTL:PT1H
BEGIN:VTIMEZONE
TZID:UTC
BEGIN:STANDARD
TZOFFSETFROM:+0000
TZOFFSETTO:+0000
TZNAME:UTC
DTSTART:20230101T000000
END:STANDARD
END:VTIMEZONE
BEGIN:VEVENT
DTSTART;VALUE=DATE:20241111
DTEND;VALUE=DATE:20250114
DTSTAMP:20260422T140718
CREATED:20240325T092415Z
LAST-MODIFIED:20240325T092415Z
UID:5232-1731283200-1736812799@www.himaliselect.com
SUMMARY:Classes Resume
DESCRIPTION:Classes Resume
URL:https://www.himaliselect.com/event/classes-resume-2/
CATEGORIES:Classes resume
END:VEVENT
BEGIN:VEVENT
DTSTART;TZID=UTC:20241222T080000
DTEND;TZID=UTC:20250105T170000
DTSTAMP:20260422T140718
CREATED:20240325T093713Z
LAST-MODIFIED:20240325T093713Z
UID:5258-1734854400-1736096400@www.himaliselect.com
SUMMARY:WINTER BREAK
DESCRIPTION:WINTER BREAK
URL:https://www.himaliselect.com/event/winter-break/
CATEGORIES:Holidays
END:VEVENT
BEGIN:VEVENT
DTSTART;VALUE=DATE:20250106
DTEND;VALUE=DATE:20250107
DTSTAMP:20260422T140718
CREATED:20240325T093750Z
LAST-MODIFIED:20240325T093750Z
UID:5260-1736121600-1736207999@www.himaliselect.com
SUMMARY:Classes Resume after Winter Holidays
DESCRIPTION:Classes Resume after Winter Holidays
URL:https://www.himaliselect.com/event/classes-resume-after-winter-holidays/
CATEGORIES:Classes resume
END:VEVENT
BEGIN:VEVENT
DTSTART;VALUE=DATE:20250111
DTEND;VALUE=DATE:20250112
DTSTAMP:20260422T140718
CREATED:20240325T093838Z
LAST-MODIFIED:20240325T093838Z
UID:5262-1736553600-1736639999@www.himaliselect.com
SUMMARY:Inter-House Badminton Tournament
DESCRIPTION:Inter-House Badminton Tournament
URL:https://www.himaliselect.com/event/inter-house-badminton-tournament/
CATEGORIES:Games
END:VEVENT
BEGIN:VEVENT
DTSTART;VALUE=DATE:20250112
DTEND;VALUE=DATE:20250113
DTSTAMP:20260422T140718
CREATED:20240325T093914Z
LAST-MODIFIED:20240325T093914Z
UID:5264-1736640000-1736726399@www.himaliselect.com
SUMMARY:Swami Vivekananda Jayanti
DESCRIPTION:Swami Vivekananda Jayanti
URL:https://www.himaliselect.com/event/swami-vivekananda-jayanti/
CATEGORIES:Holidays,Important Days
END:VEVENT
BEGIN:VEVENT
DTSTART;VALUE=DATE:20250118
DTEND;VALUE=DATE:20250119
DTSTAMP:20260422T140718
CREATED:20240325T094129Z
LAST-MODIFIED:20240325T094129Z
UID:5266-1737158400-1737244799@www.himaliselect.com
SUMMARY:Volley Ball (Teachers Vs Students)
DESCRIPTION:Volley Ball (Teachers Vs Students)
URL:https://www.himaliselect.com/event/volley-ball-teachers-vs-students/
CATEGORIES:Games
END:VEVENT
BEGIN:VEVENT
DTSTART;VALUE=DATE:20250123
DTEND;VALUE=DATE:20250124
DTSTAMP:20260422T140718
CREATED:20240325T094215Z
LAST-MODIFIED:20240325T094215Z
UID:5268-1737590400-1737676799@www.himaliselect.com
SUMMARY:Birthday of Netaji Subash Chandra Bose
DESCRIPTION:Birthday of Netaji Subash Chandra Bose
URL:https://www.himaliselect.com/event/birthday-of-netaji-subash-chandra-bose/
CATEGORIES:Holidays,Important Days
END:VEVENT
BEGIN:VEVENT
DTSTART;VALUE=DATE:20250125
DTEND;VALUE=DATE:20250126
DTSTAMP:20260422T140718
CREATED:20240325T094303Z
LAST-MODIFIED:20240325T094303Z
UID:5270-1737763200-1737849599@www.himaliselect.com
SUMMARY:JUNIOR SPORTS (Nur - V)
DESCRIPTION:JUNIOR SPORTS (Nur – V)
URL:https://www.himaliselect.com/event/junior-sports-nur-v/
CATEGORIES:school Activites,School Programs
END:VEVENT
BEGIN:VEVENT
DTSTART;VALUE=DATE:20250126
DTEND;VALUE=DATE:20250127
DTSTAMP:20260422T140718
CREATED:20240325T094343Z
LAST-MODIFIED:20240325T094343Z
UID:5272-1737849600-1737935999@www.himaliselect.com
SUMMARY:Republic Day
DESCRIPTION:Republic Day
URL:https://www.himaliselect.com/event/republic-day/
CATEGORIES:Holidays,Important Days
END:VEVENT
END:VCALENDAR