BEGIN:VCALENDAR
VERSION:2.0
PRODID:-//Himali Boarding School Select - ECPv6.15.20//NONSGML v1.0//EN
CALSCALE:GREGORIAN
METHOD:PUBLISH
X-ORIGINAL-URL:https://www.himaliselect.com
X-WR-CALDESC:Events for Himali Boarding School Select
REFRESH-INTERVAL;VALUE=DURATION:PT1H
X-Robots-Tag:noindex
X-PUBLISHED-TTL:PT1H
BEGIN:VTIMEZONE
TZID:UTC
BEGIN:STANDARD
TZOFFSETFROM:+0000
TZOFFSETTO:+0000
TZNAME:UTC
DTSTART:20240101T000000
END:STANDARD
END:VTIMEZONE
BEGIN:VEVENT
DTSTART;VALUE=DATE:20250508
DTEND;VALUE=DATE:20250509
DTSTAMP:20260422T090925
CREATED:20250319T135828Z
LAST-MODIFIED:20250319T135828Z
UID:5938-1746662400-1746748799@www.himaliselect.com
SUMMARY:Rabindra Jayanti Celeration (Skit by Cl X)
DESCRIPTION:Rabindra Jayanti Celebrations (Skit by Cl X)
URL:https://www.himaliselect.com/event/rabindra-jayanti-celeration-skit-by-cl-x/
CATEGORIES:school Activites
END:VEVENT
BEGIN:VEVENT
DTSTART;VALUE=DATE:20250508
DTEND;VALUE=DATE:20250509
DTSTAMP:20260422T090925
CREATED:20250319T135919Z
LAST-MODIFIED:20250319T135937Z
UID:5940-1746662400-1746748799@www.himaliselect.com
SUMMARY:Inter House Bengali Elocution
DESCRIPTION:Inter House Bengali Elocution
URL:https://www.himaliselect.com/event/inter-house-bengali-elocution/
CATEGORIES:school Activites
END:VEVENT
END:VCALENDAR