BEGIN:VCALENDAR
VERSION:2.0
PRODID:-//Himali Boarding School Select - ECPv6.15.20//NONSGML v1.0//EN
CALSCALE:GREGORIAN
METHOD:PUBLISH
X-ORIGINAL-URL:https://www.himaliselect.com
X-WR-CALDESC:Events for Himali Boarding School Select
REFRESH-INTERVAL;VALUE=DURATION:PT1H
X-Robots-Tag:noindex
X-PUBLISHED-TTL:PT1H
BEGIN:VTIMEZONE
TZID:UTC
BEGIN:STANDARD
TZOFFSETFROM:+0000
TZOFFSETTO:+0000
TZNAME:UTC
DTSTART:20240101T000000
END:STANDARD
END:VTIMEZONE
BEGIN:VEVENT
DTSTART;VALUE=DATE:20250506
DTEND;VALUE=DATE:20250507
DTSTAMP:20260422T090925
CREATED:20250319T135733Z
LAST-MODIFIED:20250319T135733Z
UID:5936-1746489600-1746575999@www.himaliselect.com
SUMMARY:1ST UNIT TEST FOR CLASSES I - X BEGINS
DESCRIPTION:1ST UNIT TEST FOR CLASSES I – X BEGINS
URL:https://www.himaliselect.com/event/1st-unit-test-for-classes-i-x-begins/
CATEGORIES:Examinations
END:VEVENT
END:VCALENDAR